BEGIN:VCALENDAR
VERSION:2.0
PRODID:-//Texas State Museum of Asian Cultures &amp; Education Center - ECPv6.15.13.1//NONSGML v1.0//EN
CALSCALE:GREGORIAN
METHOD:PUBLISH
X-ORIGINAL-URL:https://texasasianculturesmuseum.org
X-WR-CALDESC:Events for Texas State Museum of Asian Cultures &amp; Education Center
REFRESH-INTERVAL;VALUE=DURATION:PT1H
X-Robots-Tag:noindex
X-PUBLISHED-TTL:PT1H
BEGIN:VTIMEZONE
TZID:UTC
BEGIN:STANDARD
TZOFFSETFROM:+0000
TZOFFSETTO:+0000
TZNAME:UTC
DTSTART:20250101T000000
END:STANDARD
END:VTIMEZONE
BEGIN:VEVENT
DTSTART;TZID=UTC:20260418T100000
DTEND;TZID=UTC:20260418T123000
DTSTAMP:20260423T103354
CREATED:20260112T230918Z
LAST-MODIFIED:20260112T230918Z
UID:3741-1776506400-1776515400@texasasianculturesmuseum.org
SUMMARY:April 18th Wonton Soup class
DESCRIPTION:Master this classic and comforting soup made with tender pork wontons\, tender greens\, and a flavorful broth. \nJoin Mimi Kitchenboss for an hour-long hands-on and kid-friendly cooking class as we make this dish from scratch. You’ll enjoy the dish that you made and make new foodie friends along the way! No need to bring anything\, just your appetite and sense of culinary adventure! \nMissed classes or cancellations within 24 hours of class are non-refundable.
URL:https://texasasianculturesmuseum.org/event/april-18th-wonton-soup-class/
LOCATION:Texas State Museum of Asian Cultures\, 1809 N. Chaparral Street\, Corpus Christi\, TX\, 78401\, United States
ATTACH;FMTTYPE=image/jpeg:https://texasasianculturesmuseum.org/wp-content/uploads/2026/01/Wonton-Soup.jpg
END:VEVENT
BEGIN:VEVENT
DTSTART;TZID=UTC:20260418T150000
DTEND;TZID=UTC:20260418T200000
DTSTAMP:20260423T103354
CREATED:20260320T220528Z
LAST-MODIFIED:20260320T220537Z
UID:3746-1776524400-1776542400@texasasianculturesmuseum.org
SUMMARY:Anime Day by: Art Princess Studio Thrifty Sweetheart
DESCRIPTION:Get ready—an exciting new anime event is coming to Corpus Christi! Join us at the Texas State Museum of Asian Cultures & Education Center for a fun-filled Anime Day celebration. \nEnjoy an afternoon and evening packed with: \n\n\nUnique vendors \n\n\nLive performances \n\n\nA cosplay contest \n\n\nAnd much more! \n\n\nEvent Details:April 18\, 20263:00 PM – 8:00 PM \nMore details will be announced soon—stay tuned! \nHosted by:Art Princess StudioThrifty Sweetheart
URL:https://texasasianculturesmuseum.org/event/anime-day-by-art-princess-studio-thrifty-sweetheart/
LOCATION:Texas State Museum of Asian Cultures\, 1809 N. Chaparral Street\, Corpus Christi\, TX\, 78401\, United States
ATTACH;FMTTYPE=image/jpeg:https://texasasianculturesmuseum.org/wp-content/uploads/2026/03/Anime-Day-Flyer.jpg
END:VEVENT
BEGIN:VEVENT
DTSTART;TZID=UTC:20260424T160000
DTEND;TZID=UTC:20260424T170000
DTSTAMP:20260423T103354
CREATED:20260422T225233Z
LAST-MODIFIED:20260422T225233Z
UID:3764-1777046400-1777050000@texasasianculturesmuseum.org
SUMMARY:April 25 Demo & Dine - Egusi and fufu
DESCRIPTION:Taste tradition\, experience culture. \nDiscover the bold flavors of West Africa in this lively\, demo-style cooking class featuring a local chef. Watch Egusi and Fufu come to life\, learn the cultural traditions behind this beloved dish\, and enjoy tasting every bite. A fun\, flavorful way to experience something new. \nJoin Mimi Kitchenboss as we go on a new culinary adventure in this hour-long demo-style cooking class. You do not need to bring anything but we welcome you to bring your own drinks to pair with the featured meal. \nMissed classes or cancellations within 24 hours are non-refundable.
URL:https://texasasianculturesmuseum.org/event/april-25-demo-dine-egusi-and-fufu/
LOCATION:Texas State Museum of Asian Cultures\, 1809 N. Chaparral Street\, Corpus Christi\, TX\, 78401\, United States
ATTACH;FMTTYPE=image/png:https://texasasianculturesmuseum.org/wp-content/uploads/2026/04/MK-Cooking-Class-Posters-2.png
END:VEVENT
BEGIN:VEVENT
DTSTART;TZID=UTC:20260502T100000
DTEND;TZID=UTC:20260502T123000
DTSTAMP:20260423T103354
CREATED:20260422T225451Z
LAST-MODIFIED:20260422T225528Z
UID:3767-1777716000-1777725000@texasasianculturesmuseum.org
SUMMARY:May 2nd Chicken Adobo Class
DESCRIPTION:Discover the classic Filipino chicken adobo that bursting with flavor and personality! \nJoin Mimi Kitchenboss as we learn how to make saucy and savory chicken adobo in this hour-long cooking class and discover new ingredients\, master cooking skills\, and enjoy eating the adobo you make! \nThis is a fantastic class to level up your cooking skills. No need to bring anything\, just your appetite and culinary sense of adventure! \nMissed classes or cancellations within 24 hours are non-refundable.
URL:https://texasasianculturesmuseum.org/event/may-2nd-chicken-adobo-class/
LOCATION:Texas State Museum of Asian Cultures\, 1809 N. Chaparral Street\, Corpus Christi\, TX\, 78401\, United States
ATTACH;FMTTYPE=image/png:https://texasasianculturesmuseum.org/wp-content/uploads/2026/04/MK-Cooking-Class-Posters-Chicken-Adobo-1.png
END:VEVENT
BEGIN:VEVENT
DTSTART;TZID=UTC:20260502T100000
DTEND;TZID=UTC:20260502T160000
DTSTAMP:20260423T103354
CREATED:20260326T231746Z
LAST-MODIFIED:20260326T233517Z
UID:3755-1777716000-1777737600@texasasianculturesmuseum.org
SUMMARY:Bonsai Bonanza 
DESCRIPTION:Bonsai Bonanza – Little trees and big fun!\n\nCelebrate the beauty of nature\, art\, and culture at this one-day outdoor event designed for all ages.\n\nLocation: South Texas Botanical Gardens & Nature Center\nDate: May 2\, 2026\nTime: 10:00 AM – 4:00 PM\nPrice: General Admission\n\nHosted by the South Texas Botanical Gardens & Nature Center and Texas State Museum of Asian Cultures & Education Center\, and supported by the Arts & Cultural Commission Corpus Christi\, this event brings together community\, culture\, and creativity in a beautiful garden setting.\n\nWhat to Expect\n• Bonsai Displays & Education\nExplore the art of bonsai through curated displays and learn about the history and care techniques behind these miniature trees.\n• Local Vendors Market\nShop handmade goods\, plants\, art\, and unique items from talented local businesses.\n• Food Truck Court\nEnjoy a wide selection of food and beverages from local food trucks offering something for every taste.\n• Family-Friendly Activities\nParticipate in hands-on educational activities designed for kids and adults alike.\n\nWhy You Should Attend\nWhether you’re a plant lover\, art enthusiast\, or simply looking for a relaxing weekend activity\, Bonsai Bonanza offers a peaceful and engaging atmosphere surrounded by nature. It’s a great opportunity to learn something new\, support local vendors\, and spend quality time with family and friends.
URL:https://texasasianculturesmuseum.org/event/bonsai-bonanza/
LOCATION:South Texas Botanical Gardens\, 8545 South Staples\, Corpus Christi\, TX\, 78413\, United States
ATTACH;FMTTYPE=image/png:https://texasasianculturesmuseum.org/wp-content/uploads/2026/03/Bonsai-Bonanza-Estate-Flyer.png
END:VEVENT
BEGIN:VEVENT
DTSTART;TZID=UTC:20260509T120000
DTEND;TZID=UTC:20260509T220000
DTSTAMP:20260423T103354
CREATED:20260326T231139Z
LAST-MODIFIED:20260326T231139Z
UID:3752-1778328000-1778364000@texasasianculturesmuseum.org
SUMMARY:Golden Gathering 2026
DESCRIPTION:Join us at the Golden Gathering—a vibrant celebration of creativity\, community\, and good energy. Enjoy a full day packed with fun\, culture\, and unforgettable experiences.\n\nWhat to Expect:\nLocal Vendors – Explore unique art\, handmade crafts\, and one-of-a-kind finds.\nFood Trucks – Enjoy a variety of delicious bites to satisfy every craving.\nLive Entertainment – Dance\, sing along\, and soak up the energy all day long.\n\nDress & Cosplay:\nWear Gold for Free Entry! Stand out and shine in style.\nCosplay Encouraged – Bring your favorite characters or creative looks to life.\n\nAfter Party:\nKeep the energy going into the evening with our After Party—the perfect way to close out the day.\n\nEvent Details:\nDate: May 9\, 2026\nTime: 12 PM – 8 PM\nAfter Party: 9 PM – 10 PM\nLocation: 1809 N Chaparral St\, Corpus Christi\, TX
URL:https://texasasianculturesmuseum.org/event/golden-gathering-2026/
LOCATION:TX
ATTACH;FMTTYPE=image/png:https://texasasianculturesmuseum.org/wp-content/uploads/2026/03/Golden-Gathering-Instagram-Post.png
END:VEVENT
BEGIN:VEVENT
DTSTART;TZID=UTC:20260523T100000
DTEND;TZID=UTC:20260523T123000
DTSTAMP:20260423T103354
CREATED:20260422T225721Z
LAST-MODIFIED:20260422T225721Z
UID:3770-1779530400-1779539400@texasasianculturesmuseum.org
SUMMARY:May 23 Fresh Spring Rolls Class
DESCRIPTION:Get ready to roll some healthy\, delicious\, and fresh spring rolls! \nJoin Mimi Kitchenboss as we learn how to make vibrant Vietnamese fresh spring rolls \nin this hour-long cooking class and discover new ingredients\, master rolling techniques\, and enjoy eating the spring rolls you make! \nThis a great intro cooking class for kids of all ages and kids at heart! No need to bring anything\, just your appetite and culinary sense of adventure! \nMissed classes or cancellations within 24 hours are non-refundable.
URL:https://texasasianculturesmuseum.org/event/may-23-fresh-spring-rolls-class/
LOCATION:Texas State Museum of Asian Cultures\, 1809 N. Chaparral Street\, Corpus Christi\, TX\, 78401\, United States
ATTACH;FMTTYPE=image/png:https://texasasianculturesmuseum.org/wp-content/uploads/2026/04/MK-Cooking-Class-Posters-Chicken-Adobo-1.png
END:VEVENT
BEGIN:VEVENT
DTSTART;TZID=UTC:20260523T180000
DTEND;TZID=UTC:20260523T220000
DTSTAMP:20260423T103354
CREATED:20250919T204927Z
LAST-MODIFIED:20250919T204942Z
UID:3471-1779559200-1779573600@texasasianculturesmuseum.org
SUMMARY:Buddha’s Birthday 2026
DESCRIPTION:The Texas State Museum of Asian Cultures and Education Center invite\nthe community to join in a joyful celebration of Buddha’s Birthday on Saturday\, May 23\,\n2026\, from 6:00 p.m. to 10:00 p.m. \nThis meaningful cultural event honors the historical birthday of Siddhartha Gautama\, the Buddha\, and highlights the values of compassion\, wisdom\, and peace.\nGuests will experience an enriching evening featuring:\nCultural Performances: Showcasing music\, dance\, and traditions that celebrate\nBuddhist heritage.\nTraditional Rituals: Participate in customs that honor this sacred occasion.\nVendors &amp; Food Trucks: Explore local crafts\, goods\, and enjoy delicious food and\nrefreshments.\nThis family-friendly event offers the community an opportunity to learn\, celebrate\, and embrace\ncultural traditions while supporting the museum’s mission to promote cultural understanding. \nEveryone is welcome—bring your family and friends to celebrate Buddha’s Birthday and share\nin a night of cultural enrichment\, community\, and joy.
URL:https://texasasianculturesmuseum.org/event/buddhas-birthday-2026/
LOCATION:Texas State Museum of Asian Cultures\, 1809 N. Chaparral Street\, Corpus Christi\, TX\, 78401\, United States
ATTACH;FMTTYPE=image/png:https://texasasianculturesmuseum.org/wp-content/uploads/2024/06/Buddhas-Birthday-2026-1.png
END:VEVENT
BEGIN:VEVENT
DTSTART;TZID=UTC:20260613T100000
DTEND;TZID=UTC:20260613T123000
DTSTAMP:20260423T103354
CREATED:20260422T230036Z
LAST-MODIFIED:20260422T230036Z
UID:3772-1781344800-1781353800@texasasianculturesmuseum.org
SUMMARY:June 13th Pancit Class
DESCRIPTION:Discover the cult-favorite Filipino pancit that’s sure to be a party and dinner hit! \nJoin Mimi Kitchenboss as we learn how to make delicious pancit in this hour-long cooking class and discover new ingredients\, master noodle cooking skills\, and enjoy eating the pancit you make! \nThis is a fantastic class to level up your cooking skills. No need to bring anything\, just your appetite and culinary sense of adventure! \nMissed classes or cancellations within 24 hours are non-refundable.
URL:https://texasasianculturesmuseum.org/event/june-13th-pancit-class/
LOCATION:Texas State Museum of Asian Cultures\, 1809 N. Chaparral Street\, Corpus Christi\, TX\, 78401\, United States
ATTACH;FMTTYPE=image/png:https://texasasianculturesmuseum.org/wp-content/uploads/2026/04/MK-Cooking-Class-Posters-Pancit-2-1.png
END:VEVENT
BEGIN:VEVENT
DTSTART;TZID=UTC:20260613T120000
DTEND;TZID=UTC:20260613T170000
DTSTAMP:20260423T103354
CREATED:20260422T224657Z
LAST-MODIFIED:20260422T224816Z
UID:3761-1781352000-1781370000@texasasianculturesmuseum.org
SUMMARY:Philippine Independence Day Fiesta 2026
DESCRIPTION:Philippine Independence Day Fiesta! \nJoin us for a vibrant celebration of Filipino culture at the Texas State Museum of Asian Cultures!\nEnjoy an afternoon filled with: Traditional Filipino music Fun games for all ages Delicious Filipino food And so much more!\nBring your family and friends and celebrate Philippine Independence Day with us—everyone is welcome!\n Saturday\, June 13\, 2026 12:00 PM – 5:00 PM Texas State Museum of Asian Cultures & Education Center\nStay tuned for more details!
URL:https://texasasianculturesmuseum.org/event/philippine-independence-day-fiesta-2026/
LOCATION:Texas State Museum of Asian Cultures\, 1809 N. Chaparral Street\, Corpus Christi\, TX\, 78401\, United States
ATTACH;FMTTYPE=image/png:https://texasasianculturesmuseum.org/wp-content/uploads/2026/04/image-16.png
END:VEVENT
BEGIN:VEVENT
DTSTART;TZID=UTC:20260627T100000
DTEND;TZID=UTC:20260627T123000
DTSTAMP:20260423T103354
CREATED:20260422T230203Z
LAST-MODIFIED:20260422T231015Z
UID:3775-1782554400-1782563400@texasasianculturesmuseum.org
SUMMARY:June 27th Lumpia Class
DESCRIPTION:Be the star of the party by bringing the ultimate party food! \nJoin Mimi Kitchenboss as we learn how to make delicious pork lumpia in this hour-long cooking class. \nIn a fun\, hands-on\, and family-friendly atmosphere\, prepare a savory filling\, master folding techniques\, discover new ingredients\, and learn how to cook Filipino lumpia. \nBest part is you eat what you make! \nThis a great intro cooking class for kids of all ages and kids at heart! No need to bring anything\, just your appetite and culinary sense of adventure! \nMissed classes or cancelations within 24 hours of class are non-refundable.
URL:https://texasasianculturesmuseum.org/event/june-27th-lumpia-class/
LOCATION:Texas State Museum of Asian Cultures\, 1809 N. Chaparral Street\, Corpus Christi\, TX\, 78401\, United States
ATTACH;FMTTYPE=image/png:https://texasasianculturesmuseum.org/wp-content/uploads/2026/04/MK-Cooking-Class-Posters-Lumpia-2.png
END:VEVENT
BEGIN:VEVENT
DTSTART;TZID=UTC:20260711T100000
DTEND;TZID=UTC:20260711T123000
DTSTAMP:20260423T103354
CREATED:20260422T230419Z
LAST-MODIFIED:20260422T230419Z
UID:3777-1783764000-1783773000@texasasianculturesmuseum.org
SUMMARY:July 11th Gyoza Class
DESCRIPTION:Be a gyoza master and impress your family and friends! \nJoin Mimi Kitchenboss as we learn how to make delectable pork gyoza in this hour-long cooking class. \nIn a fun\, hands-on\, and family-friendly atmosphere\, prepare a savory filling\, master folding techniques\, discover new ingredients\, and learn how to cook Japanese gyoza. \nBest part is you eat what you make! \nThis a great intro cooking class for kids of all ages and kids at heart! No need to bring anything\, just your appetite and culinary sense of adventure! \nMissed classes or cancelations within 24 hours of class are non-refundable.
URL:https://texasasianculturesmuseum.org/event/july-11th-gyoza-class/
LOCATION:Texas State Museum of Asian Cultures\, 1809 N. Chaparral Street\, Corpus Christi\, TX\, 78401\, United States
ATTACH;FMTTYPE=image/png:https://texasasianculturesmuseum.org/wp-content/uploads/2026/04/MK-Cooking-Class-Posters-Gyoza-1.png
END:VEVENT
BEGIN:VEVENT
DTSTART;TZID=UTC:20260711T180000
DTEND;TZID=UTC:20270502T220000
DTSTAMP:20260423T103354
CREATED:20250919T204350Z
LAST-MODIFIED:20250919T204544Z
UID:3468-1783792800-1809295200@texasasianculturesmuseum.org
SUMMARY:Star Festival 2026
DESCRIPTION:Tanabata\, one of Japan’s most cherished traditions\, tells the timeless story of Orihime and\nHikoboshi—two star-crossed lovers separated by the Milky Way\, permitted to reunite only once\na year. This enchanting festival is a celebration of love\, hope\, and the beauty of dreams. \nGuests will enjoy:\nEvening Entertainment: Performances inspired by Japanese culture and tradition.\nUnique Vendors: A marketplace filled with local crafts and cultural treasures.\nFood Trucks: A variety of delicious offerings to savor throughout the night.\nThe evening will capture the spirit of Tanabata\, inviting families and friends to come together\nunder the stars and celebrate a tradition that continues to inspire across generations. \nDate: Saturday\, July 11\, 2026\nTime: 6:00 p.m. – 10:00 p.m.\nCost\, General Admission\nCelebrate Tanabata with us as we honor the beautiful legend of Orihime and Hikoboshi. Let their\nstory inspire you to cherish love\, nurture hope\, and believe in the power of dreams. Throughout\nthe evening\, guests will have the chance to write their own wishes on colorful tanzaku paper\nstrips and hang them on bamboo\, joining in a centuries-old tradition that symbolizes hope\,\nrenewal\, and connection beneath the summer night sky.
URL:https://texasasianculturesmuseum.org/event/star-festival-2026/
LOCATION:Texas State Museum of Asian Cultures\, 1809 N. Chaparral Street\, Corpus Christi\, TX\, 78401\, United States
ATTACH;FMTTYPE=image/png:https://texasasianculturesmuseum.org/wp-content/uploads/2024/06/Star-Festival-2026.png
END:VEVENT
BEGIN:VEVENT
DTSTART;TZID=UTC:20260725T100000
DTEND;TZID=UTC:20260725T123000
DTSTAMP:20260423T103354
CREATED:20260422T230648Z
LAST-MODIFIED:20260422T230648Z
UID:3780-1784973600-1784982600@texasasianculturesmuseum.org
SUMMARY:July 25th Chicken Teriyaki Class
DESCRIPTION:Discover the most delicious homemade teriyaki sauce and how to use it in a multitude of recipes! \nJoin Mimi Kitchenboss as we learn how to make homemade teriyaki sauce and create an entire healthy and delicious meal. \nIn a fun\, hands-on\, and family-friendly atmosphere\, master cooking techniques\, discover new ingredients\, and learn how to cook Chicken Teriyaki\, including vegetables and rice. \nBest part is you eat what you make! \nThis is a fantastic class if you want to level up your cooking skills. No need to bring anything\, just your appetite and culinary sense of adventure! \nMissed classes or cancelations within 24 hours of class are non-refundable.
URL:https://texasasianculturesmuseum.org/event/july-25th-chicken-teriyaki-class/
LOCATION:Texas State Museum of Asian Cultures\, 1809 N. Chaparral Street\, Corpus Christi\, TX\, 78401\, United States
ATTACH;FMTTYPE=image/png:https://texasasianculturesmuseum.org/wp-content/uploads/2026/04/MK-Cooking-Class-Posters-Chicken-Teriyaki-1.png
END:VEVENT
END:VCALENDAR